BEGIN:VCALENDAR
VERSION:2.0
PRODID:-//C.A.R.E.4Paws - ECPv6.15.20//NONSGML v1.0//EN
CALSCALE:GREGORIAN
METHOD:PUBLISH
X-WR-CALNAME:C.A.R.E.4Paws
X-ORIGINAL-URL:https://care4paws.org
X-WR-CALDESC:Events for C.A.R.E.4Paws
REFRESH-INTERVAL;VALUE=DURATION:PT1H
X-Robots-Tag:noindex
X-PUBLISHED-TTL:PT1H
BEGIN:VTIMEZONE
TZID:America/Los_Angeles
BEGIN:DAYLIGHT
TZOFFSETFROM:-0800
TZOFFSETTO:-0700
TZNAME:PDT
DTSTART:20250309T100000
END:DAYLIGHT
BEGIN:STANDARD
TZOFFSETFROM:-0700
TZOFFSETTO:-0800
TZNAME:PST
DTSTART:20251102T090000
END:STANDARD
BEGIN:DAYLIGHT
TZOFFSETFROM:-0800
TZOFFSETTO:-0700
TZNAME:PDT
DTSTART:20260308T100000
END:DAYLIGHT
BEGIN:STANDARD
TZOFFSETFROM:-0700
TZOFFSETTO:-0800
TZNAME:PST
DTSTART:20261101T090000
END:STANDARD
BEGIN:DAYLIGHT
TZOFFSETFROM:-0800
TZOFFSETTO:-0700
TZNAME:PDT
DTSTART:20270314T100000
END:DAYLIGHT
BEGIN:STANDARD
TZOFFSETFROM:-0700
TZOFFSETTO:-0800
TZNAME:PST
DTSTART:20271107T090000
END:STANDARD
END:VTIMEZONE
BEGIN:VEVENT
DTSTART;TZID=America/Los_Angeles:20260428T100000
DTEND;TZID=America/Los_Angeles:20260428T130000
DTSTAMP:20260423T015443
CREATED:20260326T044325Z
LAST-MODIFIED:20260328T031724Z
UID:987506319-1777370400-1777381200@care4paws.org
SUMMARY:Pet Wellness Clinic\, Lompoc
DESCRIPTION:Half Century Club 341 North N. Street \n\nWalk-in services: Low-cost vaccines\, flea treatment\, deworming\, microchips and nail trims\nBy appointment only: Affordable spay/neuter surgeries and medical care\nLompoc residents: Free microchips thanks to CAPA!\nSafety first: Please ensure cats are secure in carriers and dogs are leashed.\n\n			\n			\n				\n				\n				\n				\n			\n				\n				\n				\n				\n				\n				\n				\n				\n				\n				\n				\n				\n				\n				\n				\n				Walk-in clinic services\n				Clients must bring proof of prior vaccinations to receive 3-year vaccines (rabies\, DAPP\, FVRCP). \n\nRabies vaccines for dogs and cats: $10\nDistemper/parvo vaccine (DAPP\, same as DHPP) for dogs: $15\nFeline distemper vaccine (FVRCP) for cats: $15 \nBordetella vaccine for dogs: $20\nLeptospirosis (Lepto) vaccine: $20 *1 dose\nFlea treatment: $15\nDeworming treatment: $10 – $30 (depending on weight)\nNail trimming: $20\nMicrochips: $15\, free in Lompoc (for Lompoc residents and at some special events)\nDog licensing with Santa Barbara County Animal Services is now available online.\n\nThere is a service fee for credit cards. We do not offer any discounts as our prices are already low cost. We do not take CareCredit or pet insurance. \n*Lepto\, recommended to start as early as 3 months\, 2 doses 3 to 4 weeks apart\, then yearly. \n			\n			\n				\n				\n				\n				\n				\n				\n				\n				\n				\n				Servicios sin cita\n				Los clientes deben traer prueba de vacunas previas para recibir las vacunas de 3 años (rabia\, DAPP\, FVRCP). \n\nVacuna contra la rabia: $10 \nVacuna contra el parvo virus (DAPP\, igual que DHPP): $15 \nVacuna contra el moquillo felina (FVRCP): $15 \nVacuna contra bordetella (tos) para perros: $20\nVacuna contra leptospirosis (lepto): $20 *1 dosis\nTratamiento contra pulgas: $15 \nTratamiento contra parásitos: $10 – $30 (dependiendo del peso)\nCorte de uñas: $20 \nMicrochips (identificación permanente): $15\, gratis en Lompoc (para residentes de Lompoc y durante eventos especiales)\nAhora puede comprar su licencia para perros en línea de Servicios Animales (SBCAS)\n\nHay una tarifa de servicio para las tarjetas de crédito. No ofrecemos ningún descuento ya que nuestros precios ya son bajos. No aceptamos CareCredit ni seguros para mascotas. \n*Lepto\, se recomienda comenzar desde las 12 semanas de edad\, con 2 dosis. \n			\n			\n				\n				\n				\n				\n				\n			\n			\n				\n				\n				\n				\n			\n				\n				\n				\n				\n				\n				\n				Mobile Clinic Services\n			\n				Spay/neuter services
URL:https://care4paws.org/event/pet-wellness-clinic-lompoc-apr28-2026/
LOCATION:Half Century Club\, 341 North N Street\, Lompoc\, CA\, 93436\, United States
CATEGORIES:C.A.R.E.4Paws' Pet Wellness Clinic schedule,Santa Barbara County Pet Wellness Clinics
ORGANIZER;CN="C.A.R.E.4Paws":MAILTO:info@care4paws.org
END:VEVENT
BEGIN:VEVENT
DTSTART;TZID=America/Los_Angeles:20260512T100000
DTEND;TZID=America/Los_Angeles:20260512T130000
DTSTAMP:20260423T015444
CREATED:20260329T214901Z
LAST-MODIFIED:20260331T112958Z
UID:987512922-1778580000-1778590800@care4paws.org
SUMMARY:Pet Wellness Clinic\, Lompoc's Ryon Park
DESCRIPTION:Ryon Park: South R Street and West Cypress Avenue \n\nWalk-in services: Low-cost vaccines\, flea treatment\, deworming\, microchips and nail trims.\nBy appointment only: Affordable spay/neuter surgeries and medical care.\nLompoc residents: Free microchips thanks to CAPA!\nSafety first: Please ensure cats are secure in carriers and dogs are leashed.\n\n			\n			\n				\n				\n				\n				\n			\n				\n				\n				\n				\n				\n				\n				\n				\n				\n				\n				\n				\n				\n				\n				\n				Walk-in clinic services\n				Clients must bring proof of prior vaccinations to receive 3-year vaccines (rabies\, DAPP\, FVRCP). \n\nRabies vaccines for dogs and cats: $10\nDistemper/parvo vaccine (DAPP\, same as DHPP) for dogs: $15\nFeline distemper vaccine (FVRCP) for cats: $15 \nBordetella vaccine for dogs: $20\nLeptospirosis (Lepto) vaccine: $20 *1 dose\nFlea treatment: $15\nDeworming treatment: $10 – $30 (depending on weight)\nNail trimming: $20\nMicrochips: $15\, free in Lompoc (for Lompoc residents and at some special events)\nDog licensing with Santa Barbara County Animal Services is now available online.\n\nThere is a service fee for credit cards. We do not offer any discounts as our prices are already low cost. We do not take CareCredit or pet insurance. \n*Lepto\, recommended to start as early as 3 months\, 2 doses 3 to 4 weeks apart\, then yearly. \n			\n			\n				\n				\n				\n				\n				\n				\n				\n				\n				\n				Servicios sin cita\n				Los clientes deben traer prueba de vacunas previas para recibir las vacunas de 3 años (rabia\, DAPP\, FVRCP). \n\nVacuna contra la rabia: $10 \nVacuna contra el parvo virus (DAPP\, igual que DHPP): $15 \nVacuna contra el moquillo felina (FVRCP): $15 \nVacuna contra bordetella (tos) para perros: $20\nVacuna contra leptospirosis (lepto): $20 *1 dosis\nTratamiento contra pulgas: $15 \nTratamiento contra parásitos: $10 – $30 (dependiendo del peso)\nCorte de uñas: $20 \nMicrochips (identificación permanente): $15\, gratis en Lompoc (para residentes de Lompoc y durante eventos especiales)\nAhora puede comprar su licencia para perros en línea de Servicios Animales (SBCAS)\n\nHay una tarifa de servicio para las tarjetas de crédito. No ofrecemos ningún descuento ya que nuestros precios ya son bajos. No aceptamos CareCredit ni seguros para mascotas. \n*Lepto\, se recomienda comenzar desde las 12 semanas de edad\, con 2 dosis. \n			\n			\n				\n				\n				\n				\n				\n			\n			\n				\n				\n				\n				\n			\n				\n				\n				\n				\n				\n				\n				Mobile Clinic Services\n			\n				Spay/neuter services
URL:https://care4paws.org/event/pet-wellness-clinic-lompoc-may12-2026/
LOCATION:Ryon Park (New location)\, 199 South R Street\, Lompoc\, CA\, 93436\, United States
CATEGORIES:C.A.R.E.4Paws' Pet Wellness Clinic schedule,Santa Barbara County Pet Wellness Clinics
ORGANIZER;CN="C.A.R.E.4Paws":MAILTO:info@care4paws.org
END:VEVENT
BEGIN:VEVENT
DTSTART;TZID=America/Los_Angeles:20260519T100000
DTEND;TZID=America/Los_Angeles:20260519T130000
DTSTAMP:20260423T015444
CREATED:20260329T145342Z
LAST-MODIFIED:20260331T112201Z
UID:987496621-1779184800-1779195600@care4paws.org
SUMMARY:Pet Wellness Clinic\, Lompoc
DESCRIPTION:Half Century Club: 341 North N. Street \n\nWalk-in services: Low-cost vaccines\, flea treatment\, deworming\, microchips and nail trims.\nBy appointment only: Affordable spay/neuter surgeries and medical care.\nLompoc residents: Free microchips thanks to CAPA!\nSafety first: Please ensure cats are secure in carriers and dogs are leashed.\n\n			\n			\n				\n				\n				\n				\n			\n				\n				\n				\n				\n				\n				\n				\n				\n				\n				\n				\n				\n				\n				\n				\n				Walk-in clinic services\n				Clients must bring proof of prior vaccinations to receive 3-year vaccines (rabies\, DAPP\, FVRCP). \n\nRabies vaccines for dogs and cats: $10\nDistemper/parvo vaccine (DAPP\, same as DHPP) for dogs: $15\nFeline distemper vaccine (FVRCP) for cats: $15 \nBordetella vaccine for dogs: $20\nLeptospirosis (Lepto) vaccine: $20 *1 dose\nFlea treatment: $15\nDeworming treatment: $10 – $30 (depending on weight)\nNail trimming: $20\nMicrochips: $15\, free in Lompoc (for Lompoc residents and at some special events)\nDog licensing with Santa Barbara County Animal Services is now available online.\n\nThere is a service fee for credit cards. We do not offer any discounts as our prices are already low cost. We do not take CareCredit or pet insurance. \n*Lepto\, recommended to start as early as 3 months\, 2 doses 3 to 4 weeks apart\, then yearly. \n			\n			\n				\n				\n				\n				\n				\n				\n				\n				\n				\n				Servicios sin cita\n				Los clientes deben traer prueba de vacunas previas para recibir las vacunas de 3 años (rabia\, DAPP\, FVRCP). \n\nVacuna contra la rabia: $10 \nVacuna contra el parvo virus (DAPP\, igual que DHPP): $15 \nVacuna contra el moquillo felina (FVRCP): $15 \nVacuna contra bordetella (tos) para perros: $20\nVacuna contra leptospirosis (lepto): $20 *1 dosis\nTratamiento contra pulgas: $15 \nTratamiento contra parásitos: $10 – $30 (dependiendo del peso)\nCorte de uñas: $20 \nMicrochips (identificación permanente): $15\, gratis en Lompoc (para residentes de Lompoc y durante eventos especiales)\nAhora puede comprar su licencia para perros en línea de Servicios Animales (SBCAS)\n\nHay una tarifa de servicio para las tarjetas de crédito. No ofrecemos ningún descuento ya que nuestros precios ya son bajos. No aceptamos CareCredit ni seguros para mascotas. \n*Lepto\, se recomienda comenzar desde las 12 semanas de edad\, con 2 dosis. \n			\n			\n				\n				\n				\n				\n				\n			\n			\n				\n				\n				\n				\n			\n				\n				\n				\n				\n				\n				\n				Mobile Clinic Services\n			\n				Spay/neuter services
URL:https://care4paws.org/event/pet-wellness-clinic-lompoc-may19-2026/
LOCATION:Half Century Club\, 341 North N Street\, Lompoc\, CA\, 93436\, United States
CATEGORIES:C.A.R.E.4Paws' Pet Wellness Clinic schedule,Santa Barbara County Pet Wellness Clinics
ORGANIZER;CN="C.A.R.E.4Paws":MAILTO:info@care4paws.org
END:VEVENT
BEGIN:VEVENT
DTSTART;TZID=America/Los_Angeles:20260526T100000
DTEND;TZID=America/Los_Angeles:20260526T130000
DTSTAMP:20260423T015444
CREATED:20260329T190615Z
LAST-MODIFIED:20260331T113452Z
UID:987494878-1779789600-1779800400@care4paws.org
SUMMARY:Pet Wellness Clinic\, Lompoc
DESCRIPTION:Half Century Club: 341 North N. Street \n\nWalk-in services: Low-cost vaccines\, flea treatment\, deworming\, microchips and nail trims.\nBy appointment only: Affordable spay/neuter surgeries and medical care.\nLompoc residents: Free microchips thanks to CAPA!\nSafety first: Please ensure cats are secure in carriers and dogs are leashed.\n\n \n			\n			\n				\n				\n				\n				\n			\n				\n				\n				\n				\n				\n				\n				\n				\n				\n				\n				\n				\n				\n				\n				\n				Walk-in clinic services\n				Clients must bring proof of prior vaccinations to receive 3-year vaccines (rabies\, DAPP\, FVRCP). \n\nRabies vaccines for dogs and cats: $10\nDistemper/parvo vaccine (DAPP\, same as DHPP) for dogs: $15\nFeline distemper vaccine (FVRCP) for cats: $15 \nBordetella vaccine for dogs: $20\nLeptospirosis (Lepto) vaccine: $20 *1 dose\nFlea treatment: $15\nDeworming treatment: $10 – $30 (depending on weight)\nNail trimming: $20\nMicrochips: $15\, free in Lompoc (for Lompoc residents and at some special events)\nDog licensing with Santa Barbara County Animal Services is now available online.\n\nThere is a service fee for credit cards. We do not offer any discounts as our prices are already low cost. We do not take CareCredit or pet insurance. \n*Lepto\, recommended to start as early as 3 months\, 2 doses 3 to 4 weeks apart\, then yearly. \n			\n			\n				\n				\n				\n				\n				\n				\n				\n				\n				\n				Servicios sin cita\n				Los clientes deben traer prueba de vacunas previas para recibir las vacunas de 3 años (rabia\, DAPP\, FVRCP). \n\nVacuna contra la rabia: $10 \nVacuna contra el parvo virus (DAPP\, igual que DHPP): $15 \nVacuna contra el moquillo felina (FVRCP): $15 \nVacuna contra bordetella (tos) para perros: $20\nVacuna contra leptospirosis (lepto): $20 *1 dosis\nTratamiento contra pulgas: $15 \nTratamiento contra parásitos: $10 – $30 (dependiendo del peso)\nCorte de uñas: $20 \nMicrochips (identificación permanente): $15\, gratis en Lompoc (para residentes de Lompoc y durante eventos especiales)\nAhora puede comprar su licencia para perros en línea de Servicios Animales (SBCAS)\n\nHay una tarifa de servicio para las tarjetas de crédito. No ofrecemos ningún descuento ya que nuestros precios ya son bajos. No aceptamos CareCredit ni seguros para mascotas. \n*Lepto\, se recomienda comenzar desde las 12 semanas de edad\, con 2 dosis. \n			\n			\n				\n				\n				\n				\n				\n			\n			\n				\n				\n				\n				\n			\n				\n				\n				\n				\n				\n				\n				Mobile Clinic Services\n			\n				Spay/neuter services
URL:https://care4paws.org/event/pet-wellness-clinic-lompoc-may26-2026/
LOCATION:Half Century Club\, 341 North N Street\, Lompoc\, CA\, 93436\, United States
CATEGORIES:C.A.R.E.4Paws' Pet Wellness Clinic schedule,Santa Barbara County Pet Wellness Clinics
ORGANIZER;CN="C.A.R.E.4Paws":MAILTO:info@care4paws.org
END:VEVENT
END:VCALENDAR