BEGIN:VCALENDAR
VERSION:2.0
PRODID:-//C.A.R.E.4Paws - ECPv6.15.20//NONSGML v1.0//EN
CALSCALE:GREGORIAN
METHOD:PUBLISH
X-ORIGINAL-URL:https://care4paws.org
X-WR-CALDESC:Events for C.A.R.E.4Paws
REFRESH-INTERVAL;VALUE=DURATION:PT1H
X-Robots-Tag:noindex
X-PUBLISHED-TTL:PT1H
BEGIN:VTIMEZONE
TZID:America/Los_Angeles
BEGIN:DAYLIGHT
TZOFFSETFROM:-0800
TZOFFSETTO:-0700
TZNAME:PDT
DTSTART:20250309T100000
END:DAYLIGHT
BEGIN:STANDARD
TZOFFSETFROM:-0700
TZOFFSETTO:-0800
TZNAME:PST
DTSTART:20251102T090000
END:STANDARD
BEGIN:DAYLIGHT
TZOFFSETFROM:-0800
TZOFFSETTO:-0700
TZNAME:PDT
DTSTART:20260308T100000
END:DAYLIGHT
BEGIN:STANDARD
TZOFFSETFROM:-0700
TZOFFSETTO:-0800
TZNAME:PST
DTSTART:20261101T090000
END:STANDARD
BEGIN:DAYLIGHT
TZOFFSETFROM:-0800
TZOFFSETTO:-0700
TZNAME:PDT
DTSTART:20270314T100000
END:DAYLIGHT
BEGIN:STANDARD
TZOFFSETFROM:-0700
TZOFFSETTO:-0800
TZNAME:PST
DTSTART:20271107T090000
END:STANDARD
END:VTIMEZONE
BEGIN:VEVENT
DTSTART;TZID=America/Los_Angeles:20260422T100000
DTEND;TZID=America/Los_Angeles:20260422T130000
DTSTAMP:20260419T100621
CREATED:20260216T022112Z
LAST-MODIFIED:20260328T022815Z
UID:987506212-1776852000-1776862800@care4paws.org
SUMMARY:Pet Wellness Clinic\, Santa Maria
DESCRIPTION:Santa Maria Eagles: 668 South College Drive \n\nWalk-in services (10am–1pm): Low-cost vaccines\, flea treatment\, deworming\, microchips and nail trims\nBy appointment only: Affordable spay/neuter surgeries and medical care\nSafety first: Please ensure cats are secure in carriers and dogs are leashed.\n\n			\n			\n				\n				\n				\n				\n			\n				\n				\n				\n				\n				\n				\n				\n				\n				\n				\n				\n				\n				\n				\n				\n				Walk-in clinic services\n				Clients must bring proof of prior vaccinations to receive 3-year vaccines (rabies\, DAPP\, FVRCP). \n\nRabies vaccines for dogs and cats: $10\nDistemper/parvo vaccine (DAPP\, same as DHPP) for dogs: $15\nFeline distemper vaccine (FVRCP) for cats: $15 \nBordetella vaccine for dogs: $20\nLeptospirosis (Lepto) vaccine: $20 *1 dose\nFlea treatment: $15\nDeworming treatment: $10 – $30 (depending on weight)\nNail trimming: $20\nMicrochips: $15\, free in Lompoc (for Lompoc residents and at some special events)\nDog licensing with Santa Barbara County Animal Services is now available online.\n\nThere is a service fee for credit cards. We do not offer any discounts as our prices are already low cost. We do not take CareCredit or pet insurance. \n*Lepto\, recommended to start as early as 3 months\, 2 doses 3 to 4 weeks apart\, then yearly. \n			\n			\n				\n				\n				\n				\n				\n				\n				\n				\n				\n				Servicios sin cita\n				Los clientes deben traer prueba de vacunas previas para recibir las vacunas de 3 años (rabia\, DAPP\, FVRCP). \n\nVacuna contra la rabia: $10 \nVacuna contra el parvo virus (DAPP\, igual que DHPP): $15 \nVacuna contra el moquillo felina (FVRCP): $15 \nVacuna contra bordetella (tos) para perros: $20\nVacuna contra leptospirosis (lepto): $20 *1 dosis\nTratamiento contra pulgas: $15 \nTratamiento contra parásitos: $10 – $30 (dependiendo del peso)\nCorte de uñas: $20 \nMicrochips (identificación permanente): $15\, gratis en Lompoc (para residentes de Lompoc y durante eventos especiales)\nAhora puede comprar su licencia para perros en línea de Servicios Animales (SBCAS)\n\nHay una tarifa de servicio para las tarjetas de crédito. No ofrecemos ningún descuento ya que nuestros precios ya son bajos. No aceptamos CareCredit ni seguros para mascotas. \n*Lepto\, se recomienda comenzar desde las 12 semanas de edad\, con 2 dosis. \n			\n			\n				\n				\n				\n				\n				\n			\n			\n				\n				\n				\n				\n			\n				\n				\n				\n				\n				\n				\n				Mobile Clinic Services\n			\n				Spay/neuter services
URL:https://care4paws.org/event/pet-wellness-clinic-santa-maria-apr22-2026/
LOCATION:Santa Maria Eagles\, 668 South College Drive\, Santa Maria\, CA\, 93454\, United States
CATEGORIES:C.A.R.E.4Paws' Pet Wellness Clinic schedule,Santa Barbara County Pet Wellness Clinics
ORGANIZER;CN="C.A.R.E.4Paws":MAILTO:info@care4paws.org
END:VEVENT
BEGIN:VEVENT
DTSTART;TZID=America/Los_Angeles:20260423T100000
DTEND;TZID=America/Los_Angeles:20260423T130000
DTSTAMP:20260419T100621
CREATED:20260318T165152Z
LAST-MODIFIED:20260404T204433Z
UID:987512890-1776938400-1776949200@care4paws.org
SUMMARY:Pet Wellness Clinic\, Santa Maria Pioneer Park
DESCRIPTION:Pioneer Park: 1150 West Foster Road \n\nWalk-in services: $5 rabies and low-cost vaccines\, flea treatment\, deworming\, microchips and nail trims.\nBy appointment only: Affordable spay/neuter surgeries and medical care.\nSafety first: Please ensure cats are secure in carriers and dogs are leashed.\n\n			\n				\n				\n				\n				\n				\n				\n				\n				\n				\n				Walk-in clinic services\n				Clients must bring proof of prior vaccinations to receive 3-year vaccines (rabies\, DAPP\, FVRCP). \n\nRabies vaccines for dogs and cats: $10\nDistemper/parvo vaccine (DAPP\, same as DHPP) for dogs: $15\nFeline distemper vaccine (FVRCP) for cats: $15 \nBordetella vaccine for dogs: $20\nLeptospirosis (Lepto) vaccine: $20 *1 dose\nFlea treatment: $15\nDeworming treatment: $10 – $30 (depending on weight)\nNail trimming: $20\nMicrochips: $15\, free in Lompoc (for Lompoc residents and at some special events)\nDog licensing with Santa Barbara County Animal Services is now available online.\n\nThere is a service fee for credit cards. We do not offer any discounts as our prices are already low cost. We do not take CareCredit or pet insurance. \n*Lepto\, recommended to start as early as 3 months\, 2 doses 3 to 4 weeks apart\, then yearly. \n			\n			\n				\n				\n				\n				\n				\n				\n				\n				\n				\n				Servicios sin cita\n				Los clientes deben traer prueba de vacunas previas para recibir las vacunas de 3 años (rabia\, DAPP\, FVRCP). \n\nVacuna contra la rabia: $10 \nVacuna contra el parvo virus (DAPP\, igual que DHPP): $15 \nVacuna contra el moquillo felina (FVRCP): $15 \nVacuna contra bordetella (tos) para perros: $20\nVacuna contra leptospirosis (lepto): $20 *1 dosis\nTratamiento contra pulgas: $15 \nTratamiento contra parásitos: $10 – $30 (dependiendo del peso)\nCorte de uñas: $20 \nMicrochips (identificación permanente): $15\, gratis en Lompoc (para residentes de Lompoc y durante eventos especiales)\nAhora puede comprar su licencia para perros en línea de Servicios Animales (SBCAS)\n\nHay una tarifa de servicio para las tarjetas de crédito. No ofrecemos ningún descuento ya que nuestros precios ya son bajos. No aceptamos CareCredit ni seguros para mascotas. \n*Lepto\, se recomienda comenzar desde las 12 semanas de edad\, con 2 dosis. \n			\n			\n				\n				\n				\n				\n				\n			\n			\n				\n				\n				\n				\n			\n				\n				\n				\n				\n				\n				\n				Mobile Clinic Services\n			\n				Spay/neuter services
URL:https://care4paws.org/event/pet-wellness-clinic-santa-marias-pioneer-park-apr23-2026/
LOCATION:Santa Maria Pioneer Park\, West Foster Road and South Blosser Road\, Santa Maria\, California\, 93455
CATEGORIES:C.A.R.E.4Paws' Pet Wellness Clinic schedule,Santa Barbara County Pet Wellness Clinics
ORGANIZER;CN="C.A.R.E.4Paws":MAILTO:info@care4paws.org
END:VEVENT
BEGIN:VEVENT
DTSTART;TZID=America/Los_Angeles:20260429T100000
DTEND;TZID=America/Los_Angeles:20260429T130000
DTSTAMP:20260419T100621
CREATED:20260216T003011Z
LAST-MODIFIED:20260328T021758Z
UID:987496757-1777456800-1777467600@care4paws.org
SUMMARY:Pet Wellness Clinic\, Santa Maria
DESCRIPTION:Santa Maria Eagles: 668 South College Drive \n\nWalk-in services (10am–1pm): Low-cost vaccines\, flea treatment\, deworming\, microchips and nail trims\nBy appointment only: Affordable spay/neuter surgeries and medical care\nSafety first: Please ensure cats are secure in carriers and dogs are leashed.\n\n\n\n\n\n\n\n\n			\n			\n				\n				\n				\n				\n			\n				\n				\n				\n				\n				\n				\n				\n				\n				\n				\n				\n				\n				\n				\n				\n				Walk-in clinic services\n				Clients must bring proof of prior vaccinations to receive 3-year vaccines (rabies\, DAPP\, FVRCP). \n\nRabies vaccines for dogs and cats: $10\nDistemper/parvo vaccine (DAPP\, same as DHPP) for dogs: $15\nFeline distemper vaccine (FVRCP) for cats: $15 \nBordetella vaccine for dogs: $20\nLeptospirosis (Lepto) vaccine: $20 *1 dose\nFlea treatment: $15\nDeworming treatment: $10 – $30 (depending on weight)\nNail trimming: $20\nMicrochips: $15\, free in Lompoc (for Lompoc residents and at some special events)\nDog licensing with Santa Barbara County Animal Services is now available online.\n\nThere is a service fee for credit cards. We do not offer any discounts as our prices are already low cost. We do not take CareCredit or pet insurance. \n*Lepto\, recommended to start as early as 3 months\, 2 doses 3 to 4 weeks apart\, then yearly. \n			\n			\n				\n				\n				\n				\n				\n				\n				\n				\n				\n				Servicios sin cita\n				Los clientes deben traer prueba de vacunas previas para recibir las vacunas de 3 años (rabia\, DAPP\, FVRCP). \n\nVacuna contra la rabia: $10 \nVacuna contra el parvo virus (DAPP\, igual que DHPP): $15 \nVacuna contra el moquillo felina (FVRCP): $15 \nVacuna contra bordetella (tos) para perros: $20\nVacuna contra leptospirosis (lepto): $20 *1 dosis\nTratamiento contra pulgas: $15 \nTratamiento contra parásitos: $10 – $30 (dependiendo del peso)\nCorte de uñas: $20 \nMicrochips (identificación permanente): $15\, gratis en Lompoc (para residentes de Lompoc y durante eventos especiales)\nAhora puede comprar su licencia para perros en línea de Servicios Animales (SBCAS)\n\nHay una tarifa de servicio para las tarjetas de crédito. No ofrecemos ningún descuento ya que nuestros precios ya son bajos. No aceptamos CareCredit ni seguros para mascotas. \n*Lepto\, se recomienda comenzar desde las 12 semanas de edad\, con 2 dosis. \n			\n			\n				\n				\n				\n				\n				\n			\n			\n				\n				\n				\n				\n			\n				\n				\n				\n				\n				\n				\n				Mobile Clinic Services\n			\n				Spay/neuter services
URL:https://care4paws.org/event/pet-wellness-clinic-santa-maria-apr29-2026/
LOCATION:Santa Maria Eagles\, 668 South College Drive\, Santa Maria\, CA\, 93454\, United States
CATEGORIES:C.A.R.E.4Paws' Pet Wellness Clinic schedule,Santa Barbara County Pet Wellness Clinics
ORGANIZER;CN="C.A.R.E.4Paws":MAILTO:info@care4paws.org
END:VEVENT
BEGIN:VEVENT
DTSTART;TZID=America/Los_Angeles:20260501T100000
DTEND;TZID=America/Los_Angeles:20260501T130000
DTSTAMP:20260419T100621
CREATED:20260326T032021Z
LAST-MODIFIED:20260413T143249Z
UID:987519815-1777629600-1777640400@care4paws.org
SUMMARY:Pet Wellness Clinic\, Santa Maria Pioneer Park
DESCRIPTION:Pioneer Park: 1150 West Foster Road \n\nWalk-in services: $5 rabies and low-cost vaccines\, flea treatment\, deworming\, microchips and nail trims.\nBy appointment only: Affordable spay/neuter surgeries and medical care.\nSafety first: Please ensure cats are secure in carriers and dogs are leashed.\n\n			\n			\n				\n				\n				\n				\n			\n				\n				\n				\n				\n				\n				\n				\n				\n				\n				\n				\n				\n				\n				\n				\n				Walk-in clinic services\n				Clients must bring proof of prior vaccinations to receive 3-year vaccines (rabies\, DAPP\, FVRCP). \n\nRabies vaccines for dogs and cats: $10\nDistemper/parvo vaccine (DAPP\, same as DHPP) for dogs: $15\nFeline distemper vaccine (FVRCP) for cats: $15 \nBordetella vaccine for dogs: $20\nLeptospirosis (Lepto) vaccine: $20 *1 dose\nFlea treatment: $15\nDeworming treatment: $10 – $30 (depending on weight)\nNail trimming: $20\nMicrochips: $15\, free in Lompoc (for Lompoc residents and at some special events)\nDog licensing with Santa Barbara County Animal Services is now available online.\n\nThere is a service fee for credit cards. We do not offer any discounts as our prices are already low cost. We do not take CareCredit or pet insurance. \n*Lepto\, recommended to start as early as 3 months\, 2 doses 3 to 4 weeks apart\, then yearly. \n			\n			\n				\n				\n				\n				\n				\n				\n				\n				\n				\n				Servicios sin cita\n				Los clientes deben traer prueba de vacunas previas para recibir las vacunas de 3 años (rabia\, DAPP\, FVRCP). \n\nVacuna contra la rabia: $10 \nVacuna contra el parvo virus (DAPP\, igual que DHPP): $15 \nVacuna contra el moquillo felina (FVRCP): $15 \nVacuna contra bordetella (tos) para perros: $20\nVacuna contra leptospirosis (lepto): $20 *1 dosis\nTratamiento contra pulgas: $15 \nTratamiento contra parásitos: $10 – $30 (dependiendo del peso)\nCorte de uñas: $20 \nMicrochips (identificación permanente): $15\, gratis en Lompoc (para residentes de Lompoc y durante eventos especiales)\nAhora puede comprar su licencia para perros en línea de Servicios Animales (SBCAS)\n\nHay una tarifa de servicio para las tarjetas de crédito. No ofrecemos ningún descuento ya que nuestros precios ya son bajos. No aceptamos CareCredit ni seguros para mascotas. \n*Lepto\, se recomienda comenzar desde las 12 semanas de edad\, con 2 dosis. \n			\n			\n				\n				\n				\n				\n				\n			\n			\n				\n				\n				\n				\n			\n				\n				\n				\n				\n				\n				\n				Mobile Clinic Services\n			\n				Spay/neuter services
URL:https://care4paws.org/event/pet-wellness-clinic-santa-maria-pioneer-park-may1-2026/
LOCATION:Santa Maria Pioneer Park\, West Foster Road and South Blosser Road\, Santa Maria\, California\, 93455
CATEGORIES:C.A.R.E.4Paws' Pet Wellness Clinic schedule,Santa Barbara County Pet Wellness Clinics
ORGANIZER;CN="C.A.R.E.4Paws":MAILTO:info@care4paws.org
END:VEVENT
BEGIN:VEVENT
DTSTART;TZID=America/Los_Angeles:20260506T100000
DTEND;TZID=America/Los_Angeles:20260506T130000
DTSTAMP:20260419T100621
CREATED:20260330T025207Z
LAST-MODIFIED:20260331T114856Z
UID:987506213-1778061600-1778072400@care4paws.org
SUMMARY:Pet Wellness Clinic\, Santa Maria
DESCRIPTION:Santa Maria Eagles: 668 South College Drive \n\nWalk-in services: Low-cost vaccines\, flea treatment\, deworming\, microchips and nail trims\nBy appointment only: Affordable spay/neuter surgeries and medical care\nSafety first: Please ensure cats are secure in carriers and dogs are leashed.\n\n			\n			\n				\n				\n				\n				\n			\n				\n				\n				\n				\n				\n				\n				\n				\n				\n				\n				\n				\n				\n				\n				\n				Walk-in clinic services\n				Clients must bring proof of prior vaccinations to receive 3-year vaccines (rabies\, DAPP\, FVRCP). \n\nRabies vaccines for dogs and cats: $10\nDistemper/parvo vaccine (DAPP\, same as DHPP) for dogs: $15\nFeline distemper vaccine (FVRCP) for cats: $15 \nBordetella vaccine for dogs: $20\nLeptospirosis (Lepto) vaccine: $20 *1 dose\nFlea treatment: $15\nDeworming treatment: $10 – $30 (depending on weight)\nNail trimming: $20\nMicrochips: $15\, free in Lompoc (for Lompoc residents and at some special events)\nDog licensing with Santa Barbara County Animal Services is now available online.\n\nThere is a service fee for credit cards. We do not offer any discounts as our prices are already low cost. We do not take CareCredit or pet insurance. \n*Lepto\, recommended to start as early as 3 months\, 2 doses 3 to 4 weeks apart\, then yearly. \n			\n			\n				\n				\n				\n				\n				\n				\n				\n				\n				\n				Servicios sin cita\n				Los clientes deben traer prueba de vacunas previas para recibir las vacunas de 3 años (rabia\, DAPP\, FVRCP). \n\nVacuna contra la rabia: $10 \nVacuna contra el parvo virus (DAPP\, igual que DHPP): $15 \nVacuna contra el moquillo felina (FVRCP): $15 \nVacuna contra bordetella (tos) para perros: $20\nVacuna contra leptospirosis (lepto): $20 *1 dosis\nTratamiento contra pulgas: $15 \nTratamiento contra parásitos: $10 – $30 (dependiendo del peso)\nCorte de uñas: $20 \nMicrochips (identificación permanente): $15\, gratis en Lompoc (para residentes de Lompoc y durante eventos especiales)\nAhora puede comprar su licencia para perros en línea de Servicios Animales (SBCAS)\n\nHay una tarifa de servicio para las tarjetas de crédito. No ofrecemos ningún descuento ya que nuestros precios ya son bajos. No aceptamos CareCredit ni seguros para mascotas. \n*Lepto\, se recomienda comenzar desde las 12 semanas de edad\, con 2 dosis. \n			\n			\n				\n				\n				\n				\n				\n			\n			\n				\n				\n				\n				\n			\n				\n				\n				\n				\n				\n				\n				Mobile Clinic Services\n			\n				Spay/neuter services
URL:https://care4paws.org/event/pet-wellness-clinic-santa-maria-may6-2026/
LOCATION:Santa Maria Eagles\, 668 South College Drive\, Santa Maria\, CA\, 93454\, United States
CATEGORIES:C.A.R.E.4Paws' Pet Wellness Clinic schedule,Santa Barbara County Pet Wellness Clinics
ORGANIZER;CN="C.A.R.E.4Paws":MAILTO:info@care4paws.org
END:VEVENT
BEGIN:VEVENT
DTSTART;TZID=America/Los_Angeles:20260513T100000
DTEND;TZID=America/Los_Angeles:20260513T130000
DTSTAMP:20260419T100621
CREATED:20260329T200001Z
LAST-MODIFIED:20260331T115350Z
UID:987500501-1778666400-1778677200@care4paws.org
SUMMARY:Pet Wellness Clinic\, Santa Maria
DESCRIPTION:Santa Maria Eagles: 668 South College Drive \n\nWalk-in services (10am–1pm): Low-cost vaccines\, flea treatment\, deworming\, microchips and nail trims\nBy appointment only: Affordable spay/neuter surgeries and medical care\nSafety first: Please ensure cats are secure in carriers and dogs are leashed.\n\n			\n			\n				\n				\n				\n				\n			\n				\n				\n				\n				\n				\n				\n				\n				\n				\n				\n				\n				\n				\n				\n				\n				Walk-in clinic services\n				Clients must bring proof of prior vaccinations to receive 3-year vaccines (rabies\, DAPP\, FVRCP). \n\nRabies vaccines for dogs and cats: $10\nDistemper/parvo vaccine (DAPP\, same as DHPP) for dogs: $15\nFeline distemper vaccine (FVRCP) for cats: $15 \nBordetella vaccine for dogs: $20\nLeptospirosis (Lepto) vaccine: $20 *1 dose\nFlea treatment: $15\nDeworming treatment: $10 – $30 (depending on weight)\nNail trimming: $20\nMicrochips: $15\, free in Lompoc (for Lompoc residents and at some special events)\nDog licensing with Santa Barbara County Animal Services is now available online.\n\nThere is a service fee for credit cards. We do not offer any discounts as our prices are already low cost. We do not take CareCredit or pet insurance. \n*Lepto\, recommended to start as early as 3 months\, 2 doses 3 to 4 weeks apart\, then yearly. \n			\n			\n				\n				\n				\n				\n				\n				\n				\n				\n				\n				Servicios sin cita\n				Los clientes deben traer prueba de vacunas previas para recibir las vacunas de 3 años (rabia\, DAPP\, FVRCP). \n\nVacuna contra la rabia: $10 \nVacuna contra el parvo virus (DAPP\, igual que DHPP): $15 \nVacuna contra el moquillo felina (FVRCP): $15 \nVacuna contra bordetella (tos) para perros: $20\nVacuna contra leptospirosis (lepto): $20 *1 dosis\nTratamiento contra pulgas: $15 \nTratamiento contra parásitos: $10 – $30 (dependiendo del peso)\nCorte de uñas: $20 \nMicrochips (identificación permanente): $15\, gratis en Lompoc (para residentes de Lompoc y durante eventos especiales)\nAhora puede comprar su licencia para perros en línea de Servicios Animales (SBCAS)\n\nHay una tarifa de servicio para las tarjetas de crédito. No ofrecemos ningún descuento ya que nuestros precios ya son bajos. No aceptamos CareCredit ni seguros para mascotas. \n*Lepto\, se recomienda comenzar desde las 12 semanas de edad\, con 2 dosis. \n			\n			\n				\n				\n				\n				\n				\n			\n			\n				\n				\n				\n				\n			\n				\n				\n				\n				\n				\n				\n				Mobile Clinic Services\n			\n				Spay/neuter services
URL:https://care4paws.org/event/pet-wellness-clinic-santa-maria-may13-2026/
LOCATION:Santa Maria Eagles\, 668 South College Drive\, Santa Maria\, CA\, 93454\, United States
CATEGORIES:C.A.R.E.4Paws' Pet Wellness Clinic schedule,Santa Barbara County Pet Wellness Clinics
ORGANIZER;CN="C.A.R.E.4Paws":MAILTO:info@care4paws.org
END:VEVENT
BEGIN:VEVENT
DTSTART;TZID=America/Los_Angeles:20260520T100000
DTEND;TZID=America/Los_Angeles:20260520T130000
DTSTAMP:20260419T100621
CREATED:20260330T025928Z
LAST-MODIFIED:20260331T115615Z
UID:987506221-1779271200-1779282000@care4paws.org
SUMMARY:Pet Wellness Clinic\, Santa Maria
DESCRIPTION:Santa Maria Eagles: 668 South College Drive \n\nWalk-in services (10am–1pm): Low-cost vaccines\, flea treatment\, deworming\, microchips and nail trims\nBy appointment only: Affordable spay/neuter surgeries and medical care\nSafety first: Please ensure cats are secure in carriers and dogs are leashed.\n\n			\n			\n				\n				\n				\n				\n			\n				\n				\n				\n				\n				\n				\n				\n				\n				\n				\n				\n				\n				\n				\n				\n				Walk-in clinic services\n				Clients must bring proof of prior vaccinations to receive 3-year vaccines (rabies\, DAPP\, FVRCP). \n\nRabies vaccines for dogs and cats: $10\nDistemper/parvo vaccine (DAPP\, same as DHPP) for dogs: $15\nFeline distemper vaccine (FVRCP) for cats: $15 \nBordetella vaccine for dogs: $20\nLeptospirosis (Lepto) vaccine: $20 *1 dose\nFlea treatment: $15\nDeworming treatment: $10 – $30 (depending on weight)\nNail trimming: $20\nMicrochips: $15\, free in Lompoc (for Lompoc residents and at some special events)\nDog licensing with Santa Barbara County Animal Services is now available online.\n\nThere is a service fee for credit cards. We do not offer any discounts as our prices are already low cost. We do not take CareCredit or pet insurance. \n*Lepto\, recommended to start as early as 3 months\, 2 doses 3 to 4 weeks apart\, then yearly. \n			\n			\n				\n				\n				\n				\n				\n				\n				\n				\n				\n				Servicios sin cita\n				Los clientes deben traer prueba de vacunas previas para recibir las vacunas de 3 años (rabia\, DAPP\, FVRCP). \n\nVacuna contra la rabia: $10 \nVacuna contra el parvo virus (DAPP\, igual que DHPP): $15 \nVacuna contra el moquillo felina (FVRCP): $15 \nVacuna contra bordetella (tos) para perros: $20\nVacuna contra leptospirosis (lepto): $20 *1 dosis\nTratamiento contra pulgas: $15 \nTratamiento contra parásitos: $10 – $30 (dependiendo del peso)\nCorte de uñas: $20 \nMicrochips (identificación permanente): $15\, gratis en Lompoc (para residentes de Lompoc y durante eventos especiales)\nAhora puede comprar su licencia para perros en línea de Servicios Animales (SBCAS)\n\nHay una tarifa de servicio para las tarjetas de crédito. No ofrecemos ningún descuento ya que nuestros precios ya son bajos. No aceptamos CareCredit ni seguros para mascotas. \n*Lepto\, se recomienda comenzar desde las 12 semanas de edad\, con 2 dosis. \n			\n			\n				\n				\n				\n				\n				\n			\n			\n				\n				\n				\n				\n			\n				\n				\n				\n				\n				\n				\n				Mobile Clinic Services\n			\n				Spay/neuter services
URL:https://care4paws.org/event/pet-wellness-clinic-santa-maria-may20-2026/
LOCATION:Santa Maria Eagles\, 668 South College Drive\, Santa Maria\, CA\, 93454\, United States
CATEGORIES:C.A.R.E.4Paws' Pet Wellness Clinic schedule,Santa Barbara County Pet Wellness Clinics
ORGANIZER;CN="C.A.R.E.4Paws":MAILTO:info@care4paws.org
END:VEVENT
BEGIN:VEVENT
DTSTART;TZID=America/Los_Angeles:20260522T100000
DTEND;TZID=America/Los_Angeles:20260522T130000
DTSTAMP:20260419T100621
CREATED:20260410T172137Z
LAST-MODIFIED:20260413T144057Z
UID:987511928-1779444000-1779454800@care4paws.org
SUMMARY:Pet Wellness Clinic\, Santa Maria's Pioneer Park
DESCRIPTION:Santa Maria’s Pioneer Park: 1150 W. Foster Road \n\nWalk-in services: $5 rabies and other low-cost vaccines\, flea treatment\, deworming\, microchips and nail trims\nBy appointment only: Affordable spay/neuter surgeries and medical care\nSafety first: Please ensure cats are secure in carriers and dogs are leashed.\n\n			\n			\n				\n				\n				\n				\n			\n				\n				\n				\n				\n				\n				\n				\n				\n				\n				\n				\n				\n				\n				\n				\n				Walk-in clinic services\n				Clients must bring proof of prior vaccinations to receive 3-year vaccines (rabies\, DAPP\, FVRCP). \n\nRabies vaccines for dogs and cats: $10\nDistemper/parvo vaccine (DAPP\, same as DHPP) for dogs: $15\nFeline distemper vaccine (FVRCP) for cats: $15 \nBordetella vaccine for dogs: $20\nLeptospirosis (Lepto) vaccine: $20 *1 dose\nFlea treatment: $15\nDeworming treatment: $10 – $30 (depending on weight)\nNail trimming: $20\nMicrochips: $15 (free at special events)\nDog licensing with San Luis Obispo County Animal Services is available online.\n\nThere is a service fee for credit cards. We do not offer any discounts as our prices are already low cost. We do not take CareCredit or pet insurance. \n*Lepto\, recommended to start as early as 3 months\, 2 doses 3 to 4 weeks apart\, then yearly. \n			\n			\n				\n				\n				\n				\n				\n				\n				\n				\n				\n				Servicios sin cita\n				Los clientes deben traer prueba de vacunas previas para recibir las vacunas de 3 años (rabia\, DAPP\, FVRCP). \n\nVacuna contra la rabia: $10 \nVacuna contra el parvo virus (DAPP\, igual que DHPP): $15 \nVacuna contra el moquillo felina (FVRCP): $15 \nVacuna contra bordetella (tos) para perros: $20\nVacuna contra leptospirosis (lepto): $20 *1 dosis\nTratamiento contra pulgas: $15 \nTratamiento contra parásitos: $10 – $30 (dependiendo del peso) \nCorte de uñas: $20 \nMicrochips (identificación permanente): $15 (gratis durante eventos especiales)\nPuede comprar una licencia para perros en línea en Servicios para Animales (SLOAS)\n\nHay una tarifa de servicio para las tarjetas de crédito. No ofrecemos ningún descuento ya que nuestros precios ya son bajos. No aceptamos CareCredit ni seguros para mascotas. \n*Lepto\, se recomienda comenzar desde las 12 semanas de edad\, con 2 dosis. \n			\n			\n				\n				\n				\n				\n				\n			\n			\n				\n				\n				\n				\n			\n				\n				\n				\n				\n				\n				\n				Mobile Clinic Services\n			\n				Spay/neuter services
URL:https://care4paws.org/event/pet-wellness-clinic-santa-marias-pioneer-park-may22-2026/
LOCATION:Santa Maria Pioneer Park\, West Foster Road and South Blosser Road\, Santa Maria\, California\, 93455
CATEGORIES:C.A.R.E.4Paws' Pet Wellness Clinic schedule,Santa Barbara County Pet Wellness Clinics
ORGANIZER;CN="C.A.R.E.4Paws":MAILTO:info@care4paws.org
END:VEVENT
BEGIN:VEVENT
DTSTART;TZID=America/Los_Angeles:20260527T100000
DTEND;TZID=America/Los_Angeles:20260527T130000
DTSTAMP:20260419T100621
CREATED:20260329T182721Z
LAST-MODIFIED:20260331T120133Z
UID:987496374-1779876000-1779886800@care4paws.org
SUMMARY:Pet Wellness Clinic\, Santa Maria
DESCRIPTION:Santa Maria Eagles: 668 South College Drive \n\nWalk-in services (10am–1pm): Low-cost vaccines\, flea treatment\, deworming\, microchips and nail trims\nBy appointment only: Affordable spay/neuter surgeries and medical care\nSafety first: Please ensure cats are secure in carriers and dogs are leashed.\n\n			\n			\n				\n				\n				\n				\n			\n				\n				\n				\n				\n				\n				\n				\n				\n				\n				\n				\n				\n				\n				\n				\n				Walk-in clinic services\n				Clients must bring proof of prior vaccinations to receive 3-year vaccines (rabies\, DAPP\, FVRCP). \n\nRabies vaccines for dogs and cats: $10\nDistemper/parvo vaccine (DAPP\, same as DHPP) for dogs: $15\nFeline distemper vaccine (FVRCP) for cats: $15 \nBordetella vaccine for dogs: $20\nLeptospirosis (Lepto) vaccine: $20 *1 dose\nFlea treatment: $15\nDeworming treatment: $10 – $30 (depending on weight)\nNail trimming: $20\nMicrochips: $15\, free in Lompoc (for Lompoc residents and at some special events)\nDog licensing with Santa Barbara County Animal Services is now available online.\n\nThere is a service fee for credit cards. We do not offer any discounts as our prices are already low cost. We do not take CareCredit or pet insurance. \n*Lepto\, recommended to start as early as 3 months\, 2 doses 3 to 4 weeks apart\, then yearly. \n			\n			\n				\n				\n				\n				\n				\n				\n				\n				\n				\n				Servicios sin cita\n				Los clientes deben traer prueba de vacunas previas para recibir las vacunas de 3 años (rabia\, DAPP\, FVRCP). \n\nVacuna contra la rabia: $10 \nVacuna contra el parvo virus (DAPP\, igual que DHPP): $15 \nVacuna contra el moquillo felina (FVRCP): $15 \nVacuna contra bordetella (tos) para perros: $20\nVacuna contra leptospirosis (lepto): $20 *1 dosis\nTratamiento contra pulgas: $15 \nTratamiento contra parásitos: $10 – $30 (dependiendo del peso)\nCorte de uñas: $20 \nMicrochips (identificación permanente): $15\, gratis en Lompoc (para residentes de Lompoc y durante eventos especiales)\nAhora puede comprar su licencia para perros en línea de Servicios Animales (SBCAS)\n\nHay una tarifa de servicio para las tarjetas de crédito. No ofrecemos ningún descuento ya que nuestros precios ya son bajos. No aceptamos CareCredit ni seguros para mascotas. \n*Lepto\, se recomienda comenzar desde las 12 semanas de edad\, con 2 dosis. \n			\n			\n				\n				\n				\n				\n				\n			\n			\n				\n				\n				\n				\n			\n				\n				\n				\n				\n				\n				\n				Mobile Clinic Services\n			\n				Spay/neuter services
URL:https://care4paws.org/event/pet-wellness-clinic-santa-maria-may27-2026/
LOCATION:Santa Maria Eagles\, 668 South College Drive\, Santa Maria\, CA\, 93454\, United States
CATEGORIES:C.A.R.E.4Paws' Pet Wellness Clinic schedule,Santa Barbara County Pet Wellness Clinics
ORGANIZER;CN="C.A.R.E.4Paws":MAILTO:info@care4paws.org
END:VEVENT
END:VCALENDAR